BEGIN:VCALENDAR
VERSION:2.0
PRODID:-//Piquer Editorial - ECPv6.5.1.4//NONSGML v1.0//EN
CALSCALE:GREGORIAN
METHOD:PUBLISH
X-WR-CALNAME:Piquer Editorial
X-ORIGINAL-URL:https://piquereditorial.com
X-WR-CALDESC:Eventos para Piquer Editorial
REFRESH-INTERVAL;VALUE=DURATION:PT1H
X-Robots-Tag:noindex
X-PUBLISHED-TTL:PT1H
BEGIN:VTIMEZONE
TZID:UTC
BEGIN:STANDARD
TZOFFSETFROM:+0000
TZOFFSETTO:+0000
TZNAME:UTC
DTSTART:20240101T000000
END:STANDARD
END:VTIMEZONE
BEGIN:VEVENT
DTSTART;TZID=UTC:20240626T180000
DTEND;TZID=UTC:20240626T200000
DTSTAMP:20260424T120603
CREATED:20240621T202257Z
LAST-MODIFIED:20240621T225421Z
UID:2019-1719424800-1719432000@piquereditorial.com
SUMMARY:Como un Autor Millonario Planifica sus Sueños
DESCRIPTION:Descubre los secretos detrás del éxito de los autores más exitosos en nuestro exclusivo seminario “Cómo un Autor Millonario Planifica sus Sueños”. Aprende de la mano de expertos y escritores reconocidos cómo establecer metas claras\, crear estrategias efectivas y mantener la motivación en el camino hacia el éxito literario. Este evento es ideal para autores emergentes\, escritores experimentados y cualquier persona que desee transformar su pasión por la escritura en una carrera próspera. Únete a nosotros y empieza a planificar tus sueños como un verdadero autor millonario.
URL:https://piquereditorial.com/eventos/como-un-autor-millonario-planifica-sus-suenos/
LOCATION:Sala Piquer\, Valencia\, España
ATTACH;FMTTYPE=image/jpeg:https://piquereditorial.com/wp-content/uploads/2024/06/Vive-de-tu-libro-02.jpg
END:VEVENT
END:VCALENDAR