BEGIN:VCALENDAR
VERSION:2.0
PRODID:-//Piquer Editorial - ECPv6.5.1.4//NONSGML v1.0//EN
CALSCALE:GREGORIAN
METHOD:PUBLISH
X-WR-CALNAME:Piquer Editorial
X-ORIGINAL-URL:https://piquereditorial.com
X-WR-CALDESC:Eventos para Piquer Editorial
REFRESH-INTERVAL;VALUE=DURATION:PT1H
X-Robots-Tag:noindex
X-PUBLISHED-TTL:PT1H
BEGIN:VTIMEZONE
TZID:UTC
BEGIN:STANDARD
TZOFFSETFROM:+0000
TZOFFSETTO:+0000
TZNAME:UTC
DTSTART:20240101T000000
END:STANDARD
END:VTIMEZONE
BEGIN:VEVENT
DTSTART;TZID=UTC:20240703T180000
DTEND;TZID=UTC:20240703T200000
DTSTAMP:20260422T110802
CREATED:20240621T202851Z
LAST-MODIFIED:20240621T225322Z
UID:2021-1720029600-1720036800@piquereditorial.com
SUMMARY:Estrategia de Marketing Libro Alex Hormozi
DESCRIPTION:Prepárate para llevar el lanzamiento de tu libro al siguiente nivel con nuestro evento “Estrategia de Marketing para el Lanzamiento de tu Libro”. Aprende las tácticas más efectivas para generar expectativa\, captar la atención de tu audiencia y convertir tu libro en un éxito de ventas. Expertos en marketing editorial te guiarán en el proceso de creación de una campaña de lanzamiento impactante\, desde la construcción de tu marca personal hasta el uso de herramientas digitales y redes sociales. Este evento es imprescindible para autores y editores que buscan maximizar el impacto de su lanzamiento y alcanzar a un público más amplio. ¡No te lo pierdas!
URL:https://piquereditorial.com/eventos/estrategia-de-marketing-libro-alex-hormozi/
LOCATION:Sala Piquer\, Valencia\, España
ATTACH;FMTTYPE=image/jpeg:https://piquereditorial.com/wp-content/uploads/2024/06/Vive-de-tu-libro-02.jpg
END:VEVENT
END:VCALENDAR