BEGIN:VCALENDAR
VERSION:2.0
PRODID:-//Piquer Editorial - ECPv6.5.1.4//NONSGML v1.0//EN
CALSCALE:GREGORIAN
METHOD:PUBLISH
X-WR-CALNAME:Piquer Editorial
X-ORIGINAL-URL:https://piquereditorial.com
X-WR-CALDESC:Eventos para Piquer Editorial
REFRESH-INTERVAL;VALUE=DURATION:PT1H
X-Robots-Tag:noindex
X-PUBLISHED-TTL:PT1H
BEGIN:VTIMEZONE
TZID:Europe/Madrid
BEGIN:DAYLIGHT
TZOFFSETFROM:+0100
TZOFFSETTO:+0200
TZNAME:CEST
DTSTART:20240331T010000
END:DAYLIGHT
BEGIN:STANDARD
TZOFFSETFROM:+0200
TZOFFSETTO:+0100
TZNAME:CET
DTSTART:20241027T010000
END:STANDARD
END:VTIMEZONE
BEGIN:VEVENT
DTSTART;TZID=Europe/Madrid:20240724T180000
DTEND;TZID=Europe/Madrid:20240724T210000
DTSTAMP:20260422T155539
CREATED:20240621T230155Z
LAST-MODIFIED:20240621T231446Z
UID:2031-1721844000-1721854800@piquereditorial.com
SUMMARY:La Estrategia Detrás del Libro de Tony Robbins: "Poder sin Límites"
DESCRIPTION:Descubre los secretos que hicieron de “Poder sin Límites” de Tony Robbins un fenómeno mundial en nuestro evento exclusivo “La Estrategia Detrás del Libro de Tony Robbins”. Aprende cómo Tony Robbins utilizó técnicas de marketing innovadoras\, estrategias de contenido y su poderosa marca personal para transformar su libro en un bestseller. Este evento ofrece una visión profunda de las tácticas utilizadas para captar la atención del público\, generar un impacto duradero y construir una conexión sólida con los lectores. Ideal para escritores\, profesionales del marketing y cualquier persona interesada en comprender las claves del éxito editorial. ¡No te pierdas esta oportunidad única de aprender de uno de los más grandes en el mundo del desarrollo personal!
URL:https://piquereditorial.com/eventos/la-estrategia-detras-del-libro-de-tony-robbins-poder-sin-limites/
LOCATION:Sala Piquer\, Valencia\, España
ATTACH;FMTTYPE=image/jpeg:https://piquereditorial.com/wp-content/uploads/2024/06/Vive-de-tu-libro-02.jpg
END:VEVENT
END:VCALENDAR